Workbook
Name ________________________________wms4: [1]conversions!$A$44:$A$45
Name _____see95: '[2]t&B for fsiq'!$A$22
Name ____see95: '[2]t&B for fsiq'!$A$22
Name ___see95: '[2]t&B for fsiq'!$A$22
Name __see95: '[2]t&B for fsiq'!$A$22
Name __wms4: [3]conversions!$A$44:$A$45
Name _see95: '[4]t&B for fsiq'!$A$22
Name _wms4: [3]conversions!$A$44:$A$45
Name actionverbs_1: '[3]r-avlt and rey-o'!$B$8:$N$9
Name actionverbs_2: '[3]r-avlt and rey-o'!$B$11:$N$12
Name AN_F: '[5]HRB T-Scores'!$A$339:$BO$358
Name AN_FA: '[5]HRB T-Scores'!$A$362:$BO$381
Name AN_M: '[5]HRB T-Scores'!$A$292:$BO$311
Name AN_MA: '[5]HRB T-Scores'!$A$315:$BO$334
Name animals: '[3]stai-HRB'!$B$54:$U$55
Name animals_F_AA_12_20_T: '[3]HRB female african amer.'!$D$148:$W$149
Name animals_F_AA_12_35_T: '[3]HRB female african amer.'!$AA$148:$AT$149
Name animals_F_AA_12_40_T: '[3]HRB female african amer.'!$AX$148:$BQ$149
Name animals_F_AA_12_45_T: '[3]HRB female african amer.'!$BU$148:$CN$149
Name animals_F_AA_12_50_T: '[3]HRB female african amer.'!$D$171:$W$172
Name animals_F_AA_12_55_T: '[3]HRB female african amer.'!$AA$171:$AT$172
Name animals_F_AA_12_60_T: '[3]HRB female african amer.'!$AX$171:$BQ$172
Name animals_F_AA_12_65_T: '[3]HRB female african amer.'!$BU$171:$CN$172
Name animals_F_AA_12_70_T: '[3]HRB female african amer.'!$D$194:$W$195
Name animals_F_AA_12_75_T: '[3]HRB female african amer.'!$AA$194:$AT$195
Name animals_F_AA_12_80_T: '[3]HRB female african amer.'!$AX$194:$BQ$195
Name animals_F_AA_13_20_T: '[3]HRB female african amer.'!$D$217:$W$218
Name animals_F_AA_13_35_T: '[3]HRB female african amer.'!$AA$217:$AT$218
Name animals_F_AA_13_40_T: '[3]HRB female african amer.'!$AX$217:$BQ$218
Name animals_F_AA_13_45_T: '[3]HRB female african amer.'!$BU$217:$CN$218
Name animals_F_AA_13_50_T: '[3]HRB female african amer.'!$D$240:$W$241
Name animals_F_AA_13_55_T: '[3]HRB female african amer.'!$AA$240:$AT$241
Name animals_F_AA_13_60_T: '[3]HRB female african amer.'!$AX$240:$BQ$241
Name animals_F_AA_13_65_T: '[3]HRB female african amer.'!$BU$240:$CN$241
Name animals_F_AA_13_70_T: '[3]HRB female african amer.'!$D$263:$W$264
Name animals_F_AA_13_75_T: '[3]HRB female african amer.'!$AA$263:$AT$264
Name animals_F_AA_13_80_T: '[3]HRB female african amer.'!$AX$263:$BQ$264
Name animals_F_AA_16_20_T: '[3]HRB female african amer.'!$D$286:$W$287
Name animals_F_AA_16_35_T: '[3]HRB female african amer.'!$AA$286:$AT$287
Name animals_F_AA_16_40_T: '[3]HRB female african amer.'!$AX$286:$BQ$287
Name animals_F_AA_16_45_T: '[3]HRB female african amer.'!$BU$286:$CN$287
Name animals_F_AA_16_50_T: '[3]HRB female african amer.'!$D$309:$W$310
Name animals_F_AA_16_55_T: '[3]HRB female african amer.'!$AA$309:$AT$310
Name animals_F_AA_16_60_T: '[3]HRB female african amer.'!$AX$309:$BQ$310
Name animals_F_AA_16_65_T: '[3]HRB female african amer.'!$BU$309:$CN$310
Name animals_F_AA_16_70_T: '[3]HRB female african amer.'!$D$332:$W$333
Name animals_F_AA_16_75_T: '[3]HRB female african amer.'!$AA$332:$AT$333
Name animals_F_AA_16_80_T: '[3]HRB female african amer.'!$AX$332:$BQ$333
Name animals_F_AA_18_20_T: '[3]HRB female african amer.'!$D$355:$W$356
Name animals_F_AA_18_35_T: '[3]HRB female african amer.'!$AA$355:$AT$356
Name animals_F_AA_18_40_T: '[3]HRB female african amer.'!$AX$355:$BQ$356
Name animals_F_AA_18_45_T: '[3]HRB female african amer.'!$BU$355:$CN$356
Name animals_F_AA_18_50_T: '[3]HRB female african amer.'!$D$378:$W$379
Name animals_F_AA_18_55_T: '[3]HRB female african amer.'!$AA$378:$AT$379
Name animals_F_AA_18_60_T: '[3]HRB female african amer.'!$AX$378:$BQ$379
Name animals_F_AA_18_65_T: '[3]HRB female african amer.'!$BU$378:$CN$379
Name animals_F_AA_18_70_T: '[3]HRB female african amer.'!$D$401:$W$402
Name animals_F_AA_18_75_T: '[3]HRB female african amer.'!$AA$401:$AT$402
Name animals_F_AA_18_80_T: '[3]HRB female african amer.'!$AX$401:$BQ$402
Name animals_F_AA_7_20_T: '[3]HRB female african amer.'!$D$10:$W$11

Sheet Introduction
A1: This Excel file is designed to show you how to create your own automated neuropsychology scoring program and is not optimized for any single instrument.
A2: Each Sheet in this workbook will teach you separate skills/formulas and can be used individually, with an opportunity to practice scoring with a test at the end of the workbook.
A3: Multiple formulas will be used and often combined in this workbook; it is beyond the scope of this lesson to review the linguistic reasoning behind every code, but there are many helpful resources online.
A4: Note that some of the data fields (i.e., yellow cells) are pre-populated to demonstrate how the program works; you are welcome to insert your own data if you prefer.
A6: Questions about this workbook should be directed to: Jeremiah Lum, PhD (lumje@ohsu.edu)
A8: Note that except for this Introduction page, this program is NOT password-protected in order to let users view and experiment with different formulae or coding variations of what is already on this document.
A9: If you make an error and are not sure how to rectify it, simply re-download this file from the AACN DTI committee website.
A11: ACKNOWLEDGMENTS: Thank you to Shanna Cooper, PhD, ABPP-CN at the Oregon Health & Science University for reviewing this tutorial and providing feedback on its clarity.

Sheet Demographic entry
A1: Patient: | B1: Fake Patient | C1: < Many people find it helpful to color cells differently depending on whether they require input from you. For this tutorial, those types of cells are highlighted in YELLOW. Feel free to fill in these cells with whatever information you'd like.
A2: Date of birth: | B2: 27760
A3: Date of exam: | B3: 45691
A4: Age: | B4: =IF(B3="","",DATEDIF(B2,B3,"Y")) -> 49 | C4: < To auto-calculate age in years based on DOB and DOE, enter =IF(B3="","",DATEDIF(B2,B3,"y")) into the desired cell. Note that B2 and B3 are simply where I placed DOB/DOE in this tutorial.
A5: "Precise" age: | B5: =IF(B3="","",ROUND(((DATEDIF(B2,B3,"m"))/12),2)) -> 49.08 | C5: < Enter =IF(B3="","",ROUND(((DATEDIF(B2,B3,"M"))/12),2))
A6: Sex: | B6: M | C6: < Navigate to Data on the menu at the very top of the page and search for this icon: . Select it and choose Allow > List , then enter SELECT,M,F,O . The patient in this example is male.
A7: Years of Education: | B7: 14 | C7: < You can either create a dropdown list as you did with sex, or enter freehand. This example used another dropdown menu and coded for someone with an associate's degree. The cells in most modern norms will not exceed 20 years of formal education.
A8: Dominant Hand: | B8: R | C8: < Create a dropdown menu and enter SELECT,R,L,Mixed . The patient in this example is right-handed.
A10: Why Calculate "Precise Age"?
A11: Some test manuals, such as the BVMT-R, BTA or M-WCST, have overlapping age ranges and require month data to determine your patient's age band. You can account for this by auto calculating the patient's age in months and dividing by 12, and you can use the quotient for tasks requiring that information.

Sheet Making a face sheet
A1: You can make an organized and automatized face sheet by using cell combination functions. We will make a very brief example below based on the tests we will work with in this tutorial.
A3: Enter ='Demographic entry'!A1&" "&'Demographic entry'!B1&"" > | B3: ='Demographic entry'!A1&" "&'Demographic entry'!B1&"" -> Patient: Fake Patient
A4: Enter ='Demographic entry'!A4&" "&'Demographic entry'!B4&"" > | B4: ='Demographic entry'!A4&" "&'Demographic entry'!B4&"" -> Age: 49
A5: Enter ='Demographic entry'!A6&" "&'Demographic entry'!B6&"" > | B5: ='Demographic entry'!A6&" "&'Demographic entry'!B6&"" -> Sex: M
A6: Enter ='Demographic entry'!A7&" "&'Demographic entry'!B7&"" > | B6: ='Demographic entry'!A7&" "&'Demographic entry'!B7&"" -> Years of Education: 14
A7: Enter ='Demographic entry'!A8&" "&'Demographic entry'!B8&"" > | B7: ='Demographic entry'!A8&" "&'Demographic entry'!B8&"" -> Dominant Hand: R
B9: PROCESSING SPEED / ATTENTION:
C10: Raw | D10: T | E10: %
B11: SDMT-O (Strober et al., 2020): | C11: 56 | D11: =IF(C11="","",'Norming data (multiple demo z)'!AU17) -> 51 | E11: =IF(C11="","",'Norming data (multiple demo z)'!AU16) -> 54 | G11: < For SDMT-O, review cells D11-E11 for the formulas that transfer normative data from the appropriate page.
B12: Trails A: | C12: 23 | D12: =IF(C12="","",'Norming data (simple age z)'!AS10) -> 57 | E12: =IF(C12="","",'Norming data (simple age z)'!AS9) -> 76 | G12: < For Trails A/B, review cells D12-E12 and D16-E16 for the formulas that transfer normative data from the appropriate page.
B14: EXECUTIVE:
C15: Raw | D15: T | E15: %
B16: Trails B: | C16: 78 | D16: =IF(C16="","",'Norming data (simple age z)'!AS15) -> 51 | E16: =IF(D16="","",'Norming data (simple age z)'!AS14) -> 56
B18: MEMORY:
C19: Raw | D19: T | E19: %
B20: RAVLT LDFR: | C20: 12 | D20: =IF(C20="","",'Norming data, raw regression'!AP9) -> 59 | E20: =IF(C20="","",'Norming data, raw regression'!AP10) -> 82 | G20: < Review Cells D20 and E20 for the formulas that transfer normative data from the appropriate page.
B21: RAVLT Recognition: | C21: 90 | D21: =IF(C21="","",'Norming data, raw regression'!AP11) -> 46 | E21: =IF(C21="","",'Norming data, raw regression'!AP12) -> 34 | G21: < Review Cells D21 and E21 for the formulas that transfer normative data from the appropriate page.
B23: LANGUAGE:
C24: Raw | D24: T | E24: %
B25: Animal Naming: | F25: < Navigate to the "Practice" Tab to try this one on your own.
B27: VISUOSPATIAL:
C28: Raw | D28: T | E28: %
B29: WAIS-IV Block Design: | C29: 8 | D29: =IF(C29="","",ROUND(((((('Norming data, manual age bands'!AM9-10)/3))*10)+50),0)) -> 73 | E29: =IF(C29="","",'Norming data, manual age bands'!AM10) -> 99 | G29: < Review Cells D29 and E29 for the formulas that transfer normative data from the appropriate page.
G30: Note that for tests like Block Design that are typically normed with scaled scores, you can simply copy the original metric from the Block Design scoring page or convert it to a unified metric (e.g., T-score) by using a ss > z > T transformation with a M/SD of 10 and 3, as well as the NORM.S.DIST and ROUND functions (see Cell AM10 on the "Norming data, manual age bands" tab).
B31: PSYCHOLOGICAL/SELF-REPORT:
C32: Raw | D32: Descriptor
B33: GAD-7: | C33: =IF('Summing questionnaires (simple)'!B3="","",'Summing questionnaires (simple)'!B12) -> 9 | D33: =IF('Summing questionnaires (simple)'!B3="","",'Summing questionnaires (simple)'!A13) -> Mild
B34: PHQ-9: | C34: =IF('Summing questionnaires (simple)'!L3="","",'Summing questionnaires (simple)'!L10) -> 12 | D34: =IF('Summing questionnaires (simple)'!L3="","",'Summing questionnaires (simple)'!K11) -> Moderate

Sheet Summing questionnaires (simple)
A1: PHQ-9: | K1: GAD-7:
A2: item | B2: responses (0-3) | K2: item | L2: responses (0-3)
A3: 1 | B3: 1 | K3: 1 | L3: 3
A4: 2 | B4: 1 | K4: 2 | L4: 2
A5: 3 | B5: 1 | K5: 3 | L5: 3
A6: 4 | B6: 1 | K6: 4 | L6: 0
A7: 5 | B7: 2 | K7: 5 | L7: 1
A8: 6 | B8: 2 | K8: 6 | L8: 3
A9: 7 | B9: 0 | K9: 7 | L9: 0
A10: 8 | B10: 1 | K10: Sum: | L10: =IF(L3="","",SUM(L3:L9)) -> 12 | M10: < Enter =IF(L3="","",SUM(L3:L9))
A11: 9 | B11: 0 | K11: =IF(L3="","--",VLOOKUP((SUM(L3:L9)),D15:E18,2,1)) -> Moderate | M11: < Enter =IF(L3="","--",VLOOKUP((SUM(L3:L9)),D15:E18,2,1))
A12: Sum: | B12: =IF(B3="","",SUM(B3:B11)) -> 9 | C12: < Enter =IF(B3="","",SUM(B3:B11))
A13: =IF(B3="","--",VLOOKUP((SUM(B3:B11)),A15:B19,2,1)) -> Mild | C13: < Enter =IF(B3="","--",VLOOKUP((SUM(B3:B11)),A15:B19,2,1))
A15: 0 | B15: Normal | D15: 0 | E15: Normal | F15: < After filling in these cells you can highlight rows 15-19, right click and select "Hide Cells" to clean up this scoring page.
A16: 5 | B16: Mild | D16: 5 | E16: Mild
A17: 10 | B17: Moderate | D17: 10 | E17: Moderate
A18: 15 | B18: Mod/Severe | D18: 15 | E18: Severe
A19: 20 | B19: Severe

Sheet Norming data, manual age bands
A1: One of the simplest scoring techniques is to look up an age-corrected scale score. Doing this with a physical manual takes time, and can be replicated instantly/accurately with a VLOOKUP function. We will demonstrate this with the first cognitive task that many people learn: WAIS-IV Block Design.
A2: NOTE: The normative data shown below are intentionally INACCURATE to protect the original copyrighted norms. When adapting this program for your scoring needs, please reference the official test manual for accuracy.
A4: STEP 1: Create a cell for raw score entry from the main face sheet. | J4: STEP 2: Define your age bands. For this example, we will pretend that the WAIS-IV is stratified by sets of 9 years starting at 18 years of age. | W4: STEP 3: Confirm your patient's age band. | AL4: STEP 4: Upload the manualized norms. For simplicity's sake we will shorten the lookup tables and pretend that BD is only out of 10 points and upload a smaller number of age bands.
A5: WAIS-IV BD raw: | B5: =IF('Making a face sheet'!C29="","",'Making a face sheet'!C29) -> 8 | C5: < Enter =IF('Making a face sheet'!C29="","",'Making a face sheet'!C29) | J5: To do this, we must create a table that will auto-select our patient's age range using the demographic data you provided earlier. | W5: age range: | X5: =IF('Demographic entry'!$B$4="","",VLOOKUP('Demographic entry'!$B$4,'Norming data, manual age bands'!$J$8:$K$16,2,1)) -> 40-49 | Y5: < Enter =IF('Demographic entry'!$B$4="","",VLOOKUP('Demographic entry'!$B$4,'Norming data, manual age bands'!$J$8:$K$16,2,1)) | AL5: Next, calculate the ss for each age band separately (see formulae below).
J6: This is accomplished by identifying the lowest age in each band and lining it up with the age band itself; see below.
AL7: =A5 -> WAIS-IV BD raw: | AM7: =B5 -> 8 | AN7: < From Step 1; copied here for sake of illustration
J8: 0 | K8: Too young | AL8: age range: | AM8: =X5 -> 40-49 | AN8: < From Step 3; copied here for sake of illustration
J9: 18 | K9: 18-29 | AL9: ss: | AM9: =IF($B$5="","",IF(AND(X5="18-29"),AL11,IF(AND(X5="30-39"),AM11,IF(AND(X5="40-49"),AN11,IF(AND(X5="50-59"),AO11,IF(AND(X5="60-69"),AP11,IF(AND(X5="70-79"),AQ11,IF(AND(X5="80-89"),AR11,"Age Error")))))))) -> 17 | AN9: < Enter =IF($B$5="","",IF(AND(X5="18-29"),AL11,IF(AND(X5="30-39"),AM11,IF(AND(X5="40-49"),AN11,IF(AND(X5="50-59"),AO11,IF(AND(X5="60-69"),AP11,IF(AND(X5="70-79"),AQ11,IF(AND(X5="80-89"),AR11,"Age Error"))))))))
J10: 30 | K10: 30-39 | AL10: %: | AM10: =IF($B$5="","",ROUND((_xlfn.NORM.S.DIST(((AM9-10)/3),TRUE)*100),0)) -> 99 | AN10: < Enter =IF($B$5="","",ROUND((NORM.S.DIST(((AM9-10)/3),TRUE)*100),0))
J11: 40 | K11: 40-49 | AL11: =IF($B$5="","",VLOOKUP($B$5,AL14:$AS$32,8,1)) -> 15 | AM11: =IF($B$5="","",VLOOKUP($B$5,AM14:$AS$32,7,1)) -> 15 | AN11: =IF($B$5="","",VLOOKUP($B$5,AN14:$AS$32,6,1)) -> 17 | AO11: =IF($B$5="","",VLOOKUP($B$5,AO14:$AS$32,5,1)) -> 15 | AP11: =IF($B$5="","",VLOOKUP($B$5,AP14:$AS$32,4,1)) -> 15 | AQ11: =IF($B$5="","",VLOOKUP($B$5,AQ14:$AS$32,3,1)) -> 16 | AR11: =IF($B$5="","",VLOOKUP($B$5,AR14:$AS$32,2,1)) -> 14 | AT11: < VERY IMPORTANT: Review each column's ss formula individually to see how the lookup formula needs to change based on age.
J12: 50 | K12: 50-59 | AL12: Ages 18-29 | AM12: Ages 30-39 | AN12: Ages 40-49 | AO12: Ages 50-59 | AP12: Ages 60-69 | AQ12: Ages 70-79 | AR12: Ages 80-89 | AS12: ss
J13: 60 | K13: 60-69 | AL13: BD | AM13: BD | AN13: BD | AO13: BD | AP13: BD | AQ13: BD | AR13: BD
J14: 70 | K14: 70-79 | AL14: 0 | AM14: 0 | AN14: 0 | AO14: 0 | AP14: 0 | AQ14: 0 | AR14: 0 | AS14: 1
J15: 80 | K15: 80-89 | AL15: -- | AM15: -- | AN15: -- | AO15: -- | AP15: -- | AQ15: -- | AR15: -- | AS15: 2
J16: 91 | K16: Too old | AL16: -- | AM16: -- | AN16: -- | AO16: -- | AP16: -- | AQ16: -- | AR16: -- | AS16: 3
AL17: 2 | AM17: 2 | AN17: -- | AO17: 1 | AP17: 2 | AQ17: 1 | AR17: -- | AS17: 4
AL18: -- | AM18: -- | AN18: 1 | AO18: -- | AP18: -- | AQ18: 2 | AR18: -- | AS18: 5
AL19: -- | AM19: -- | AN19: -- | AO19: 2 | AP19: 3 | AQ19: 3 | AR19: -- | AS19: 6
AL20: 3 | AM20: 3 | AN20: 2 | AO20: -- | AP20: -- | AQ20: -- | AR20: 1 | AS20: 7
AL21: -- | AM21: -- | AN21: -- | AO21: 3 | AP21: -- | AQ21: -- | AR21: 2 | AS21: 8
AL22: -- | AM22: -- | AN22: -- | AO22: -- | AP22: -- | AQ22: 4 | AR22: 4 | AS22: 9
AL23: 4 | AM23: 4 | AN23: 4 | AO23: -- | AP23: 5 | AQ23: 5 | AR23: -- | AS23: 10
AL24: -- | AM24: -- | AN24: -- | AO24: -- | AP24: 6 | AQ24: -- | AR24: -- | AS24: 11
AL25: 6 | AM25: 6 | AN25: 6 | AO25: 5 | AP25: -- | AQ25: -- | AR25: 5 | AS25: 12
AL26: -- | AM26: -- | AN26: -- | AO26: -- | AP26: -- | AQ26: -- | AR26: 7 | AS26: 13
AL27: -- | AM27: -- | AN27: -- | AO27: 7 | AP27: 7 | AQ27: 7 | AR27: 8 | AS27: 14
AL28: 8 | AM28: 8 | AN28: 7 | AO28: 8 | AP28: 8 | AQ28: -- | AR28: -- | AS28: 15
AL29: -- | AM29: -- | AN29: -- | AO29: -- | AP29: -- | AQ29: 8 | AR29: 9 | AS29: 16
AL30: -- | AM30: -- | AN30: 8 | AO30: 9 | AP30: 9 | AQ30: 9 | AR30: 10 | AS30: 17
AL31: -- | AM31: -- | AN31: -- | AO31: -- | AP31: -- | AQ31: -- | AR31: -- | AS31: 18
AL32: 10 | AM32: 10 | AN32: 10 | AO32: 10 | AP32: 10 | AQ32: 10 | AR32: 10 | AS32: 19

Sheet Norming data (simple age z)
A1: Now let's run some scores with a classic instrument: Trails (for this example we will use Drane et al., 2002). These norms are FREELY/PUBLICALLY AVAILABLE.
A2: We will derive the patient's standardized scores using the simple z-score calculation.
A3: NOTE THAT STEPS 2-3 CAN ALL BE DONE IN THE SAME TABLE. THEY ARE PRESENTED SEPARATELY BELOW FOR SIMPLICITY OF PRESENTATION.
A5: STEP 1: Create cells for raw score entry. | K5: STEP 2: Enter the norms as published. Determine the minimal cutoff for each age band, and record them beside the published age ranges. | U5: STEP 3: Mass generate all possible z-scores (fastest method). | AR5: STEP 3: Have Excel auto-standardize your raw scores. You can transfer any of these directly to your main face sheet.
A6: Trails A raw time: | B6: =IF('Making a face sheet'!C12="","",'Making a face sheet'!C12) -> 23 | C6: < Enter =IF('Making a face sheet'!C12="","",'Making a face sheet'!C12) | K6: Trails Norms (Drane et al., 2002)--AGE CALIBRATED, 18-90 | U6: Trails Norms (Drane et al., 2002)--AGE CALIBRATED, 18-90
A7: Trails B raw time: | B7: =IF('Making a face sheet'!C16="","",'Making a face sheet'!C16) -> 78 | C7: < Enter =IF('Making a face sheet'!C16="","",'Making a face sheet'!C16) | M7: tmt-a | N7: tmt-a | O7: tmt-b | P7: tmt-b | W7: tmt-a | X7: tmt-a | Z7: tmt-b | AA7: tmt-b | AB7: tmt-b | AR7: Trails A age band: | AS7: =IF('Demographic entry'!B4="","",VLOOKUP('Demographic entry'!B4,$K$9:$L$16,2,1)) -> 40-49 | AT7: < Enter =IF('Demographic entry'!B4="","",VLOOKUP('Demographic entry'!B4,$G$8:$H$15,2,1))
K8: minimum age cutoffs | L8: age range | M8: m | N8: sd | O8: m | P8: sd | U8: minimum age cutoffs | V8: age range | W8: m | X8: sd | Y8: z | Z8: m | AA8: sd | AB8: z | AC8: < Right click and insert "z" columns into your normative table for Parts A and B. | AR8: Trails A z-score: | AS8: =IF(AS7="","",IF(AND(AS7="Too young"),"Error",IF(AND(AS7="Too old"),"Error",IF(AND(AS7="<20"),Y10,IF(AND(AS7="20-29"),Y11,IF(AND(AS7="30-39"),Y12,IF(AND(AS7="40-49"),Y13,IF(AND(AS7="50-59"),Y14,IF(AND(AS7="60-69"),Y15,IF(AND(AS7="70-79"),Y16,IF(AND(AS7="80-90"),Y17))))))))))) -> 0.71 | AT8: < See cell for full formula; you will run an IF/AND formula to select the right z-score from Step 3.
K9: 0 | L9: Too young | M9: Too young | N9: Too young | O9: Too young | P9: Too young | U9: 0 | V9: Too young | W9: Too young | X9: Too young | Y9: Too young | Z9: Too young | AA9: Too young | AB9: Too young | AR9: Trails A %ile: | AS9: =IF(AS8="","",ROUND(((_xlfn.NORM.S.DIST(AS8,TRUE)*100)),0)) -> 76 | AT9: < Enter =IF(B8="","",ROUND(((NORM.S.DIST(B8,TRUE)*100)),0))
K10: 18 | L10: <20 | M10: 23.22 | N10: 6.56 | O10: 52.94 | P10: 20.1 | U10: 18 | V10: <20 | W10: 23.22 | X10: 6.56 | Y10: =IF('Making a face sheet'!$C$12="","",-ROUND((((('Making a face sheet'!$C$12-W10))/X10)),2)) -> 0.03 | Z10: 52.94 | AA10: 20.1 | AB10: =IF('Making a face sheet'!$C$16="","",-ROUND((((('Making a face sheet'!$C$16-Z10))/AA10)),2)) -> -1.25 | AC10: < In Cell AD10, enter =IF('Making a face sheet'!$C$12="","",-ROUND((((('Making a face sheet'!$C$12-AB10))/AC10)),2)) . Drag the formula down through the end of the column. | AR10: Trails A T-score: | AS10: =IF(AS8="","",ROUND((((AS8*10)+50)),0)) -> 57 | AT10: < Enter =IF(B8="","",ROUND((((B8*10)+50)),0))
K11: 20 | L11: 20-29 | M11: 26.12 | N11: 9.78 | O11: 60.92 | P11: 33.17 | U11: 20 | V11: 20-29 | W11: 26.12 | X11: 9.78 | Y11: =IF('Making a face sheet'!$C$12="","",-ROUND((((('Making a face sheet'!$C$12-W11))/X11)),2)) -> 0.32 | Z11: 60.92 | AA11: 33.17 | AB11: =IF('Making a face sheet'!$C$16="","",-ROUND((((('Making a face sheet'!$C$16-Z11))/AA11)),2)) -> -0.51 | AC11: Note that in the above formula, a minus sign "-" is in front of the word ROUND to account for lower response times representing better performance on Trails.
K12: 30 | L12: 30-39 | M12: 28.02 | N12: 8.78 | O12: 72.3 | P12: 28.55 | U12: 30 | V12: 30-39 | W12: 28.02 | X12: 8.78 | Y12: =IF('Making a face sheet'!$C$12="","",-ROUND((((('Making a face sheet'!$C$12-W12))/X12)),2)) -> 0.57 | Z12: 72.3 | AA12: 28.55 | AB12: =IF('Making a face sheet'!$C$16="","",-ROUND((((('Making a face sheet'!$C$16-Z12))/AA12)),2)) -> -0.2 | AR12: Trails B age band: | AS12: =AS7 -> 40-49 | AT12: < Enter = B7
K13: 40 | L13: 40-49 | M13: 31 | N13: 11.21 | O13: 81.26 | P13: 23.69 | U13: 40 | V13: 40-49 | W13: 31 | X13: 11.21 | Y13: =IF('Making a face sheet'!$C$12="","",-ROUND((((('Making a face sheet'!$C$12-W13))/X13)),2)) -> 0.71 | Z13: 81.26 | AA13: 23.69 | AB13: =IF('Making a face sheet'!$C$16="","",-ROUND((((('Making a face sheet'!$C$16-Z13))/AA13)),2)) -> 0.14 | AC13: Now Repeat the above steps, except you will substitute all the cells associated with Trails A with cells associated with Trails B. See formulas in table. | AR13: Trails B z-score: | AS13: =IF(AS12="","",IF(AND(AS12="Too young"),"Error",IF(AND(AS12="Too old"),"Error",IF(AND(AS12="<20"),AB10,IF(AND(AS12="20-29"),AB11,IF(AND(AS12="30-39"),AB12,IF(AND(AS12="40-49"),AB13,IF(AND(AS12="50-59"),AB14,IF(AND(AS12="60-69"),AB15,IF(AND(AS12="70-79"),AB16,IF(AND(AS12="80-90"),AB17))))))))))) -> 0.14 | AT13: < See cell for full formula; you will run an IF/AND formula to select the right z-score from Step 3.
K14: 50 | L14: 50-59 | M14: 36.29 | N14: 16.41 | O14: 103.42 | P14: 50.26 | U14: 50 | V14: 50-59 | W14: 36.29 | X14: 16.41 | Y14: =IF('Making a face sheet'!$C$12="","",-ROUND((((('Making a face sheet'!$C$12-W14))/X14)),2)) -> 0.81 | Z14: 103.42 | AA14: 50.26 | AB14: =IF('Making a face sheet'!$C$16="","",-ROUND((((('Making a face sheet'!$C$16-Z14))/AA14)),2)) -> 0.51 | AR14: Trails B %ile: | AS14: =IF(AS13="","",ROUND(((_xlfn.NORM.S.DIST(AS13,TRUE)*100)),0)) -> 56 | AT14: < Enter =IF(B14="","",ROUND(((NORM.S.DIST(B14,TRUE)*100)),0))
K15: 60 | L15: 60-69 | M15: 39.6 | N15: 12.14 | O15: 105.23 | P15: 41.15 | U15: 60 | V15: 60-69 | W15: 39.6 | X15: 12.14 | Y15: =IF('Making a face sheet'!$C$12="","",-ROUND((((('Making a face sheet'!$C$12-W15))/X15)),2)) -> 1.37 | Z15: 105.23 | AA15: 41.15 | AB15: =IF('Making a face sheet'!$C$16="","",-ROUND((((('Making a face sheet'!$C$16-Z15))/AA15)),2)) -> 0.66 | AR15: Trails B T-score: | AS15: =IF(AS13="","",ROUND((((AS13*10)+50)),0)) -> 51 | AT15: < Enter =IF(B14="","",ROUND((((B14*10)+50)),0))
K16: 70 | L16: 70-79 | M16: 45.58 | N16: 18.91 | O16: 152.59 | P16: 88.42 | U16: 70 | V16: 70-79 | W16: 45.58 | X16: 18.91 | Y16: =IF('Making a face sheet'!$C$12="","",-ROUND((((('Making a face sheet'!$C$12-W16))/X16)),2)) -> 1.19 | Z16: 152.59 | AA16: 88.42 | AB16: =IF('Making a face sheet'!$C$16="","",-ROUND((((('Making a face sheet'!$C$16-Z16))/AA16)),2)) -> 0.84
K17: 80 | L17: >80 | M17: 56.37 | N17: 20.2 | O17: 170.21 | P17: 84.68 | U17: 80 | V17: >80 | W17: 56.37 | X17: 20.2 | Y17: =IF('Making a face sheet'!$C$12="","",-ROUND((((('Making a face sheet'!$C$12-W17))/X17)),2)) -> 1.65 | Z17: 170.21 | AA17: 84.68 | AB17: =IF('Making a face sheet'!$C$16="","",-ROUND((((('Making a face sheet'!$C$16-Z17))/AA17)),2)) -> 1.09
K18: 91 | L18: Too old | M18: Too old | N18: Too old | O18: Too old | P18: Too old | U18: 91 | V18: Too old | W18: Too old | X18: Too old | Y18: Too old | Z18: Too old | AA18: Too old | AB18: Too old

Sheet Norming data (multiple demo z)
A1: Now that we have mastered automated scoring based on simple age-stratified z-scores, let's try doing the same thing with simultaneous corrections for AGE, SEX, and EDUCATION on the oral SDMT (Strober et al., 2020). These norms are FREELY/PUBLICLY available.
A14: STEP 1: Create cells for raw score entry. | J14: STEP 2: Define your age bands by creating the table below. | P14: STEP 3: Create your patient's demographic code. This is where the information you provided at the very beginning of this document will come in handy. | AD14: STEP 4: Using how you structured the lookup code from Step 3, as well as the published normative table, create your own normative lookup table. | AT14: STEP 5: Have Excel auto-standardize your final scores. You can now transfer these to your main face sheet as desired.
A15: SDMT-O raw: | B15: =IF('Making a face sheet'!C11="","",'Making a face sheet'!C11) -> 56 | C15: < Enter =IF('Making a face sheet'!C11="","",'Making a face sheet'!C11) | J15: 0 | K15: Too young | P15: sex: | Q15: =IF('Demographic entry'!B6="select","",'Demographic entry'!B6) -> M | R15: < Enter =IF('Demographic entry'!B6="select","",'Demographic entry'!B6) | AD15: EXAMPLE: The published table shows that males 18-24 years of age with less than 16 years of formal education obtain 65.32 points on average, with a standard deviation of 10.17. | AT15: z: | AU15: =IF(B15="","",VLOOKUP(Q18,$AD$19:$AG$42,4,FALSE)) -> 0.09 | AV15: < Enter =IF(B15="","",VLOOKUP(Q18,$AD$19:$AG$42,4,FALSE))
J16: 18 | K16: 18-24 | P16: age: | Q16: =IF('Demographic entry'!B4="","",VLOOKUP('Demographic entry'!B4,$J$15:$K$22,2,1)) -> 45-54 | R16: < Enter =IF('Demographic entry'!B4="","",VLOOKUP('Demographic entry'!B4,$A$18:$B$25,2,1)) | AD16: You can rewrite the table's demographic parameters to fit the your lookup code's format to mass-generate z-scores. | AT16: %: | AU16: =IF(AU15="","",ROUND(((_xlfn.NORM.S.DIST(AU15,TRUE)*100)),0)) -> 54 | AV16: < Enter =IF(AV15="","",ROUND(((NORM.S.DIST(AV15,TRUE)*100)),0))
J17: 25 | K17: 25-34 | P17: education: | Q17: =IF('Demographic entry'!B7="select","",IF(AND('Demographic entry'!B7<16),"<16","16+")) -> <16 | R17: < Enter =IF('Demographic entry'!B7="select","",IF(AND('Demographic entry'!B7<16),"<16","16+")) | AT17: T: | AU17: =IF(AU15="","",ROUND((((AU15*10)+50)),0)) -> 51 | AV17: < Enter =IF(AV15="","",ROUND((((AV15*10)+50)),0))
J18: 35 | K18: 35-44 | P18: Lookup code: | Q18: =IF(B15="","",Q15&" "&Q16&" "&Q17&"") -> M 45-54 <16 | R18: < Enter =IF(B15="","",B28&" "&B29&" "&B30&"") . This creates the code you will use to generate your z-score. | AD18: LC | AE18: m | AF18: sd | AG18: z
J19: 45 | K19: 45-54 | AD19: M 18-24 <16 | AE19: 65.32 | AF19: 10.17 | AG19: =IF($B$15="","",ROUND((($B$15-AE19)/AF19),2)) -> -0.92 | AH19: < Enter =IF($B$15="","",ROUND((($B$15-AE19)/AF19),2)) . Drag this formula through the end of the column.
J20: 55 | K20: 55-64 | AD20: M 25-34 <16 | AE20: 61.33 | AF20: 8.93 | AG20: =IF($B$15="","",ROUND((($B$15-AE20)/AF20),2)) -> -0.6
J21: 65 | K21: 65-74 | AD21: M 35-44 <16 | AE21: 56.77 | AF21: 8.42 | AG21: =IF($B$15="","",ROUND((($B$15-AE21)/AF21),2)) -> -0.09
J22: 75 | K22: Too old | AD22: M 45-54 <16 | AE22: 55.42 | AF22: 6.63 | AG22: =IF($B$15="","",ROUND((($B$15-AE22)/AF22),2)) -> 0.09
AD23: M 55-64 <16 | AE23: 50.5 | AF23: 8.46 | AG23: =IF($B$15="","",ROUND((($B$15-AE23)/AF23),2)) -> 0.65
AD24: M 65-74 <16 | AE24: 47.85 | AF24: 5.76 | AG24: =IF($B$15="","",ROUND((($B$15-AE24)/AF24),2)) -> 1.41
AD25: M 18-24 16+ | AE25: 67.55 | AF25: 10.92 | AG25: =IF($B$15="","",ROUND((($B$15-AE25)/AF25),2)) -> -1.06
AD26: M 25-34 16+ | AE26: 62.65 | AF26: 6.11 | AG26: =IF($B$15="","",ROUND((($B$15-AE26)/AF26),2)) -> -1.09
AD27: M 35-44 16+ | AE27: 66.55 | AF27: 8.79 | AG27: =IF($B$15="","",ROUND((($B$15-AE27)/AF27),2)) -> -1.2
AD28: M 45-54 16+ | AE28: 58.62 | AF28: 9.92 | AG28: =IF($B$15="","",ROUND((($B$15-AE28)/AF28),2)) -> -0.26
AD29: M 55-64 16+ | AE29: 50.8 | AF29: 6.75 | AG29: =IF($B$15="","",ROUND((($B$15-AE29)/AF29),2)) -> 0.77
AD30: M 65-74 16+ | AE30: 49.18 | AF30: 4.67 | AG30: =IF($B$15="","",ROUND((($B$15-AE30)/AF30),2)) -> 1.46
AD31: F 18-24 <16 | AE31: 64.78 | AF31: 8.85 | AG31: =IF($B$15="","",ROUND((($B$15-AE31)/AF31),2)) -> -0.99
AD32: F 25-34 <16 | AE32: 65.3 | AF32: 10.3 | AG32: =IF($B$15="","",ROUND((($B$15-AE32)/AF32),2)) -> -0.9
AD33: F 35-44 <16 | AE33: 63.33 | AF33: 10.51 | AG33: =IF($B$15="","",ROUND((($B$15-AE33)/AF33),2)) -> -0.7
AD34: F 45-54 <16 | AE34: 60 | AF34: 8.45 | AG34: =IF($B$15="","",ROUND((($B$15-AE34)/AF34),2)) -> -0.47
... AD42: F 65-74 16+ | AE42: 52.35 | AF42: 8.06 | AG42: =IF($B$15="","",ROUND((($B$15-AE42)/AF42),2)) -> 0.45

Sheet Norming data, raw regression
A1: Sometimes you will encounter regression-based norms in the literature where you are given direct access to the equations, and need to code them into your own score sheet to directly calculate T-scores or other standardized metrics.
A2: One of the best examples of this is the updated Mayo norms, which are Publicly/Freely Available and include the RAVLT (Stricker et al., 2021). While the MNS developers offer a free downloadable scoring program, it is useful to use their RAVLT as an example of how to generate regression-based norms in Excel.
A4: Most regression-based norms require you to transform the examinee's raw score to a z- or scaled score before applying the actual regression equations. See the table below from Stricker and colleagues' RAVLT publication.
A5: For this example, we will focus on the fully demographically corrected 30 minute recall and recognition percentage correct (PC) scores for simplicity.
G7: STEP 1: Import data from your main face sheet. | R7: STEP 2: Upload your desired portion(s) of the table to the far left. Use VLOOKUP to derive raw to ss conversions. | AE7: STEP 3: Upload the regression equations (below) and apply your examinee's demographics. Ignore the semicolons at the end of the equations.
G8: AGE: | H8: =IF('Demographic entry'!B4="","",'Demographic entry'!B4) -> 49 | I8: < Enter =IF('Demographic entry'!B4="","",'Demographic entry'!B4) | R8: LDFR Raw | S8: RPC Raw | T8: ss
G9: AGE SQUARED*: | H9: =IF(H8="","",H8^2) -> 2401 | I9: < Enter =IF(H8="","",H8^2) | R9: -- | S9: 0 | T9: 0 | U9: SCALED SCORE CONVERSIONS: | AO9: T(LDFR): | AP9: =IF(H13="","",ROUND(50+((((V10-(12.4118437425+(H8*-0.0016432817)+(H10*-1.8612455591)+(H11*0.1380628944)+(H9*-0.0007027918)))/1)+0.0000001024411)/0.25299505),0)) -> 59 | AQ9: < Enter =IF(H28="","",ROUND(50+((((V10 -(12.4118437425+(H8*-0.0016432817)+(H10*-1.8612455591)+(H11*0.1380628944)+(H9*-0.0007027918)))/1)+0.0000001024411)/0.25299505),0))
G10: SEX**: | H10: =IF('Demographic entry'!B6="","",IF(AND('Demographic entry'!B6="F"),0,1)) -> 1 | I10: < Enter =IF('Demographic entry'!B6="","",IF(AND('Demographic entry'!B6="F"),0,1)) | R10: -- | S10: 27 | T10: 1 | U10: LDFR: | V10: =IF('Making a face sheet'!C20="","",VLOOKUP('Making a face sheet'!C20,R9:T29,3,1)) -> 13 | W10: < Enter =IF('Making a face sheet'!C20="","",'Making a face sheet'!C20) | AO10: LDFR %: | AP10: =IF(AP9="","",ROUND((_xlfn.NORM.S.DIST(((AP9-50)/10),TRUE)*100),0)) -> 82 | AQ10: < Enter =IF(AP9="","",ROUND((NORM.S.DIST(((AP9-50)/10),TRUE)*100),0))
G11: EDUCATION: | H11: =IF('Demographic entry'!B7="","",'Demographic entry'!B7) -> 14 | I11: < Enter =IF('Demographic entry'!B7="","",'Demographic entry'!B7) | R11: -- | S11: 50 | T11: 2 | U11: RPC: | V11: =IF('Making a face sheet'!C21="","",VLOOKUP('Making a face sheet'!C21,S9:T29,2,1)) -> 9 | W11: < Enter =IF('Making a face sheet'!C21="","",'Making a face sheet'!C21) | AO11: T(RPC): | AP11: =IF(H14="","",ROUND(50+((((V11-(10.7915054797+(H8*0.016399595)+(H10*-1.8832719513)+(H11*0.1180746912)+(H9*-0.00054882)))/1)+0.0000001925238)/0.29155771),0)) -> 46 | AQ11: < Enter =IF(H14="","",ROUND(50+((((V11-(10.7915054797+(H8*0.016399595)+(H10*-1.8832719513)+(H11*0.1180746912)+(H9*-0.00054882)))/1)+0.0000001925238)/0.29155771),0))
R12: 0 | S12: 60 | T12: 3 | AO12: RPC %: | AP12: =IF(AP11="","",ROUND((_xlfn.NORM.S.DIST((((AP11-50)/10)),TRUE)*100),0)) -> 34 | AQ12: < Enter =IF(AP11="","",ROUND((NORM.S.DIST((((AP11-50)/10)),TRUE)*100),0))
G13: RAVLT LDFR: | H13: =IF('Making a face sheet'!C20="","",'Making a face sheet'!C20) -> 12 | I13: < Enter =IF('Making a face sheet'!C20="","",'Making a face sheet'!C20) | R13: 1 | S13: 67 | T13: 4
G14: RAVLT PC: | H14: =IF('Making a face sheet'!C21="","",'Making a face sheet'!C21) -> 90 | I14: < Enter =IF('Making a face sheet'!C21="","",'Making a face sheet'!C21) | R14: 2 | S14: 70 | T14: 5
R15: 3 | S15: 77 | T15: 6
G16: * Many regression-based norms (including Mayo) require an Age Squared term in their equations to account for curvilinear effects of age on cognitive performance. | R16: 4 | S16: 80 | T16: 7
G17: ** Mayo norms specify Female coefficient = 0 and Male = 1 in regression equations. | R17: 5 | S17: 83 | T17: 8
R18: 7 | S18: 90 | T18: 9
R19: 8 | S19: -- | T19: 10
R20: 9 | S20: 93 | T20: 11
R21: 10 | S21: 97 | T21: 12
R22: 12 | S22: -- | T22: 13
R23: 13 | S23: -- | T23: 14
R24: 14 | S24: 100 | T24: 15
R25: -- | S25: -- | T25: 16
R26: 15 | S26: -- | T26: 17
R27: -- | S27: -- | T27: 18
R28: -- | S28: -- | T28: 19
R29: -- | S29: -- | T29: 20

Sheet Descriptors
A1: Now that you are done scoring data, you might want to describe it. The following are derived from the AACN consensus (Guilmette et al., 2020).
A2: Note that you can cover entire percentile ranges by starting each new line with the lowest number of the next highest percentile interval.
A4: <1 | B4: Exceptionally Low
A5: 0 | B5: Exceptionally Low
A6: 2 | B6: Below Average
A7: 9 | B7: Low Average
A8: 25 | B8: Average
A9: 75 | B9: High Average
A10: 91 | B10: Above Average
A11: 98 | B11: Exceptionally High
A12: >99 | B12: Exceptionally High

Sheet Tabling
A1: Using this page, you can create a table that can be pasted directly into a Word document report. There are also ways to code your entire report into Excel, but this lesson will focus on the data table for simplicity's sake.
A2: Once you copy the below table into Word, you might notice that some of the columns need to be wider to fit on 1 line (e.g., Strober SDMT). The appropriate column widths are easily toggled manually in Word.
A3: I do not recommend toggling column widths in Excel, merging table cells, et cetera as this can adversely affect the table's formatting once it appears in Word.
A5: DOMAINS/TESTS | C5: Raw | D5: T | E5: % | F5: Descriptor
A7: ='Making a face sheet'!B9 -> PROCESSING SPEED / ATTENTION:
A8: ='Making a face sheet'!B11 -> SDMT-O (Strober et al., 2020): | C8: ='Making a face sheet'!C11 -> 56 | D8: ='Making a face sheet'!D11 -> 51 | E8: ='Making a face sheet'!E11 -> 54 | F8: =IF('Making a face sheet'!C11="","",VLOOKUP('Making a face sheet'!E11,Descriptors!$A$4:$B$12,2,1)) -> Average | G8: < Please review the individual cells for the appropriate formulas required to create your table. This will generally be the easiest part as most of it is clicking/dragging formulae across cells to bring data over from your main face sheet, followed by VLOOKUP formulas for your qualitative descriptors if you want to use them.
A9: ='Making a face sheet'!B12 -> Trails A: | C9: ='Making a face sheet'!C12 -> 23 | D9: ='Making a face sheet'!D12 -> 57 | E9: ='Making a face sheet'!E12 -> 76 | F9: =IF('Making a face sheet'!C12="","",VLOOKUP('Making a face sheet'!E12,Descriptors!$A$4:$B$12,2,1)) -> High Average
A11: ='Making a face sheet'!B14 -> EXECUTIVE:
A12: ='Making a face sheet'!B16 -> Trails B: | C12: ='Making a face sheet'!C16 -> 78 | D12: ='Making a face sheet'!D16 -> 51 | E12: ='Making a face sheet'!E16 -> 56 | F12: =IF('Making a face sheet'!C16="","",VLOOKUP('Making a face sheet'!E16,Descriptors!$A$4:$B$12,2,1)) -> Average
A14: ='Making a face sheet'!B18 -> MEMORY:
A15: ='Making a face sheet'!B20 -> RAVLT LDFR: | C15: ='Making a face sheet'!C20 -> 12 | D15: ='Making a face sheet'!D20 -> 59 | E15: ='Making a face sheet'!E20 -> 82 | F15: =IF('Making a face sheet'!C20="","",VLOOKUP('Making a face sheet'!E20,Descriptors!$A$4:$B$12,2,1)) -> High Average
A16: ='Making a face sheet'!B21 -> RAVLT Recognition: | C16: ='Making a face sheet'!C21 -> 90 | D16: ='Making a face sheet'!D21 -> 46 | E16: ='Making a face sheet'!E21 -> 34 | F16: =IF('Making a face sheet'!C21="","",VLOOKUP('Making a face sheet'!E21,Descriptors!$A$4:$B$12,2,1)) -> Average
A18: ='Making a face sheet'!B23 -> LANGUAGE:
A19: ='Making a face sheet'!B25 -> Animal Naming: | G19: < You can code in the ANT row as part of your scoring practice activity.
A21: ='Making a face sheet'!B27 -> VISUOSPATIAL:
A22: ='Making a face sheet'!B29 -> WAIS-IV Block Design: | C22: ='Making a face sheet'!C29 -> 8 | D22: ='Making a face sheet'!D29 -> 73 | E22: ='Making a face sheet'!E29 -> 99 | F22: =IF('Making a face sheet'!C29="","",VLOOKUP('Making a face sheet'!E29,Descriptors!$A$4:$B$12,2,1)) -> Exceptionally High
A24: ='Making a face sheet'!B31 -> PSYCHOLOGICAL/SELF-REPORT:
A25: ='Making a face sheet'!B33 -> GAD-7: | C25: ='Making a face sheet'!C33 -> 9 | D25: -- | E25: -- | F25: =IF('Making a face sheet'!C33="","",'Making a face sheet'!D33) -> Mild
A26: ='Making a face sheet'!B34 -> PHQ-9: | C26: ='Making a face sheet'!C34 -> 12 | D26: -- | E26: -- | F26: =IF('Making a face sheet'!C34="","",'Making a face sheet'!D34) -> Moderate

Sheet ADVANCED TUTORIAL-LIST LEARNING
A1: For list-learning tasks, it can greatly simplify things to have Excel count up recalled items instead of counting them by hand. The same goes for proportions of recognition hits/false positives, et cetera.
A2: For this example, assume that we are scoring delayed recall for the standard MoCA word list (FACE VELVET CHURCH DAISY RED).
A3: Let us also assume that plurals of the stimuli are acceptable responses (e.g., FACE and FACES would both earn 1 point, but saying either of them after the first mention would receive 0 points as that would be a repetition).
A4: Let us also imagine that recognition of the word list is measured via standard Yes/No paradigm with equal numbers of stimuli and foils.
A6: STEP 1: Create a field for word entry. Add as many cells as the test protocol allows (we will arbitrarily use 10 slots for this example). Insert the relevant columns as demonstrated below.
B7: ALSO create a Yes/No section for word list recognition using dropdown menus (see Demographic Entry section for details).
B8: Please take time to enter some fake data into the yellow cells below to understand how the formulae in the following columns work in terms of eliminating repetitions and intrusions. This can be adapted to longer instruments (e.g., HVLT-R; RAVLT; CVLT-3).
B9: Once you have reviewed the formulae and calculations on this page, proceed to LIST LEARNING TUTORIAL - RESULT to see how this page would look in a final scoring program.
A11: MoCA Delayed Recall | C11: base word (accounts for plurals; hide this coumn when you are finished coding select the cells below to review the codes) | D11: final response list (uses UNIQUE function to filter out repetitions and intrusions; hide this column when you are finished coding; select cells below to review the codes) | E11: Points (Hide this column when you are finished) | F11: Final Recall Points | H11: MoCA "Word Recognition" (Dummy Task)
C12: =IF(A12="","",IF(AND(A12="face"),"face",IF(AND(A12="faces"),"face",IF(AND(A12="velvet"),"velvet",IF(AND(A12="velvets"),"velvet",IF(AND(A12="church"),"church",IF(AND(A12="churches"),"church",IF(AND(A12="daisy"),"daisy",IF(AND(A12="daisies"),"daisy",IF(AND(A12="red"),"red",IF(AND(A12="reds"),"red",A12))))))))))) | D12: {=UNIQUE(C12:C22)} | E12: =IF(A12="","",IF(AND(D12=0),0,IF(AND(D12="velvet"),1,IF(AND(D12="church"),1,IF(AND(D12="face"),1,IF(AND(D12="daisy"),1,IF(AND(D12="red"),1,0))))))) | F12: =IF(A12="","",SUM(E12:E22)) | H12: Item | I12: Response | J12: Points (Hide this column when you are finished) | L12: Hits | N12: FP | P12: Simple Recognition Discrimination Index (this will be a raw score; compare to normative sample once completed)
C13: =IF(A13="","",IF(AND(A13="face"),"face",IF(AND(A13="faces"),"face",IF(AND(A13="velvet"),"velvet",IF(AND(A13="velvets"),"velvet",IF(AND(A13="church"),"church",IF(AND(A13="churches"),"church",IF(AND(A13="daisy"),"daisy",IF(AND(A13="daisies"),"daisy",IF(AND(A13="red"),"red",IF(AND(A13="reds"),"red",A13))))))))))) | E13: =IF(A13="","",IF(AND(D13=0),0,IF(AND(D13="velvet"),1,IF(AND(D13="church"),1,IF(AND(D13="face"),1,IF(AND(D13="daisy"),1,IF(AND(D13="red"),1,0))))))) | H13: VELVET | I13: SELECT | J13: =IF(I13="select","",IF(AND(I13="Yes"),1,0)) | K13: < Enter =IF(E11="select","",IF(AND(E11="Yes"),1,0)) | L13: =IF(I13="select","",SUM(J13,J16,J18,J19,J21)) | M13: < Enter =IF(E11="select","",SUM(F11,F14,F16,F17,F19)) | N13: =IF(I13="select","",SUM(J14,J15,J17,J20,J22)) | O13: < Enter =IF(E11="select","",SUM(F12,F13,F15,F18,F20)) | P13: =IF(I13="select","",L13-N13) | Q13: < Enter =IF(E11="select","",H11-J11)
C14: =IF(A14="","",IF(AND(A14="face"),"face",IF(AND(A14="faces"),"face",IF(AND(A14="velvet"),"velvet",IF(AND(A14="velvets"),"velvet",IF(AND(A14="church"),"church",IF(AND(A14="churches"),"church",IF(AND(A14="daisy"),"daisy",IF(AND(A14="daisies"),"daisy",IF(AND(A14="red"),"red",IF(AND(A14="reds"),"red",A14))))))))))) | E14: =IF(A14="","",IF(AND(D14=0),0,IF(AND(D14="velvet"),1,IF(AND(D14="church"),1,IF(AND(D14="face"),1,IF(AND(D14="daisy"),1,IF(AND(D14="red"),1,0))))))) | H14: HOTEL | I14: SELECT | J14: =IF(I14="select","",IF(AND(I14="Yes"),1,0)) | K14: < Enter =IF(E12="select","",IF(AND(E12="Yes"),1,0)) | Q14: Note that tests like RAVLT and CVLT calculate recognition in slightly more complicated ways than shown here; readers are directed to the relevant literature to learn more.
C15: =IF(A15="","",IF(AND(A15="face"),"face",IF(AND(A15="faces"),"face",IF(AND(A15="velvet"),"velvet",IF(AND(A15="velvets"),"velvet",IF(AND(A15="church"),"church",IF(AND(A15="churches"),"church",IF(AND(A15="daisy"),"daisy",IF(AND(A15="daisies"),"daisy",IF(AND(A15="red"),"red",IF(AND(A15="reds"),"red",A15))))))))))) | E15: =IF(A15="","",IF(AND(D15=0),0,IF(AND(D15="velvet"),1,IF(AND(D15="church"),1,IF(AND(D15="face"),1,IF(AND(D15="daisy"),1,IF(AND(D15="red"),1,0))))))) | H15: LEATHER | I15: SELECT | J15: =IF(I15="select","",IF(AND(I15="Yes"),1,0)) | K15: < Enter =IF(E13="select","",IF(AND(E13="Yes"),1,0)) | Q15: Regardless of the recognition paradigm used, most (if not all) of the list learning recognition tasks in modern neuropsychology are amenable to automatic scoring in Excel.
C16: =IF(A16="","",IF(AND(A16="face"),"face",IF(AND(A16="faces"),"face",IF(AND(A16="velvet"),"velvet",IF(AND(A16="velvets"),"velvet",IF(AND(A16="church"),"church",IF(AND(A16="churches"),"church",IF(AND(A16="daisy"),"daisy",IF(AND(A16="daisies"),"daisy",IF(AND(A16="red"),"red",IF(AND(A16="reds"),"red",A16))))))))))) | E16: =IF(A16="","",IF(AND(D16=0),0,IF(AND(D16="velvet"),1,IF(AND(D16="church"),1,IF(AND(D16="face"),1,IF(AND(D16="daisy"),1,IF(AND(D16="red"),1,0))))))) | H16: DAISY | I16: SELECT | J16: =IF(I16="select","",IF(AND(I16="Yes"),1,0)) | K16: < Enter =IF(E14="select","",IF(AND(E14="Yes"),1,0)) | Q16: Feel free to contact the developer at: lumje@ohsu.edu for additional questions about coding certain list recognition formats into Excel.
C17: =IF(A17="","",IF(AND(A17="face"),"face",IF(AND(A17="faces"),"face",IF(AND(A17="velvet"),"velvet",IF(AND(A17="velvets"),"velvet",IF(AND(A17="church"),"church",IF(AND(A17="churches"),"church",IF(AND(A17="daisy"),"daisy",IF(AND(A17="daisies"),"daisy",IF(AND(A17="red"),"red",IF(AND(A17="reds"),"red",A17))))))))))) | E17: =IF(A17="","",IF(AND(D17=0),0,IF(AND(D17="velvet"),1,IF(AND(D17="church"),1,IF(AND(D17="face"),1,IF(AND(D17="daisy"),1,IF(AND(D17="red"),1,0))))))) | H17: BLUE | I17: SELECT | J17: =IF(I17="select","",IF(AND(I17="Yes"),1,0)) | K17: < Enter =IF(E15="select","",IF(AND(E15="Yes"),1,0))
C18: =IF(A18="","",IF(AND(A18="face"),"face",IF(AND(A18="faces"),"face",IF(AND(A18="velvet"),"velvet",IF(AND(A18="velvets"),"velvet",IF(AND(A18="church"),"church",IF(AND(A18="churches"),"church",IF(AND(A18="daisy"),"daisy",IF(AND(A18="daisies"),"daisy",IF(AND(A18="red"),"red",IF(AND(A18="reds"),"red",A18))))))))))) | E18: =IF(A18="","",IF(AND(D18=0),0,IF(AND(D18="velvet"),1,IF(AND(D18="church"),1,IF(AND(D18="face"),1,IF(AND(D18="daisy"),1,IF(AND(D18="red"),1,0))))))) | H18: CHURCH | I18: SELECT | J18: =IF(I18="select","",IF(AND(I18="Yes"),1,0)) | K18: < Enter =IF(E16="select","",IF(AND(E16="Yes"),1,0))
C19: =IF(A19="","",IF(AND(A19="face"),"face",IF(AND(A19="faces"),"face",IF(AND(A19="velvet"),"velvet",IF(AND(A19="velvets"),"velvet",IF(AND(A19="church"),"church",IF(AND(A19="churches"),"church",IF(AND(A19="daisy"),"daisy",IF(AND(A19="daisies"),"daisy",IF(AND(A19="red"),"red",IF(AND(A19="reds"),"red",A19))))))))))) | E19: =IF(A19="","",IF(AND(D19=0),0,IF(AND(D19="velvet"),1,IF(AND(D19="church"),1,IF(AND(D19="face"),1,IF(AND(D19="daisy"),1,IF(AND(D19="red"),1,0))))))) | H19: FACE | I19: SELECT | J19: =IF(I19="select","",IF(AND(I19="Yes"),1,0)) | K19: < Enter =IF(E17="select","",IF(AND(E17="Yes"),1,0))
C20: =IF(A20="","",IF(AND(A20="face"),"face",IF(AND(A20="faces"),"face",IF(AND(A20="velvet"),"velvet",IF(AND(A20="velvets"),"velvet",IF(AND(A20="church"),"church",IF(AND(A20="churches"),"church",IF(AND(A20="daisy"),"daisy",IF(AND(A20="daisies"),"daisy",IF(AND(A20="red"),"red",IF(AND(A20="reds"),"red",A20))))))))))) | E20: =IF(A20="","",IF(AND(D20=0),0,IF(AND(D20="velvet"),1,IF(AND(D20="church"),1,IF(AND(D20="face"),1,IF(AND(D20="daisy"),1,IF(AND(D20="red"),1,0))))))) | H20: ARM | I20: SELECT | J20: =IF(I20="select","",IF(AND(I20="Yes"),1,0)) | K20: < Enter =IF(E18="select","",IF(AND(E18="Yes"),1,0))
C21: =IF(A21="","",IF(AND(A21="face"),"face",IF(AND(A21="faces"),"face",IF(AND(A21="velvet"),"velvet",IF(AND(A21="velvets"),"velvet",IF(AND(A21="church"),"church",IF(AND(A21="churches"),"church",IF(AND(A21="daisy"),"daisy",IF(AND(A21="daisies"),"daisy",IF(AND(A21="red"),"red",IF(AND(A21="reds"),"red",A21))))))))))) | E21: =IF(A21="","",IF(AND(D21=0),0,IF(AND(D21="velvet"),1,IF(AND(D21="church"),1,IF(AND(D21="face"),1,IF(AND(D21="daisy"),1,IF(AND(D21="red"),1,0))))))) | H21: RED | I21: SELECT | J21: =IF(I21="select","",IF(AND(I21="Yes"),1,0)) | K21: < Enter =IF(E19="select","",IF(AND(E19="Yes"),1,0))
C22: =IF(A22="","",IF(AND(A22="face"),"face",IF(AND(A22="faces"),"face",IF(AND(A22="velvet"),"velvet",IF(AND(A22="velvets"),"velvet",IF(AND(A22="church"),"church",IF(AND(A22="churches"),"church",IF(AND(A22="daisy"),"daisy",IF(AND(A22="daisies"),"daisy",IF(AND(A22="red"),"red",IF(AND(A22="reds"),"red",A22))))))))))) | E22: =IF(A22="","",IF(AND(D22=0),0,IF(AND(D22="velvet"),1,IF(AND(D22="church"),1,IF(AND(D22="face"),1,IF(AND(D22="daisy"),1,IF(AND(D22="red"),1,0))))))) | H22: PANSY | I22: SELECT | J22: =IF(I22="select","",IF(AND(I22="Yes"),1,0)) | K22: < Enter =IF(E20="select","",IF(AND(E20="Yes"),1,0))

Sheet LIST LEARNING TUTORIAL - RESULT
A1: MoCA Delayed Recall | C1: base word (accounts for plurals; hide this coumn when you are finished coding select the cells below to review the codes) | D1: final response list (uses UNIQUE function to filter out repetitions and intrusions; hide this column when you are finished coding; select cells below to review the codes) | E1: Points (Hide this column when you are finished) | F1: Final Recall Points | H1: MoCA "Word Recognition" (Dummy Task)
C2: =IF(A2="","",IF(AND(A2="face"),"face",IF(AND(A2="faces"),"face",IF(AND(A2="velvet"),"velvet",IF(AND(A2="velvets"),"velvet",IF(AND(A2="church"),"church",IF(AND(A2="churches"),"church",IF(AND(A2="daisy"),"daisy",IF(AND(A2="daisies"),"daisy",IF(AND(A2="red"),"red",IF(AND(A2="reds"),"red",A2))))))))))) | D2: {=UNIQUE(C2:C12)} | E2: =IF(A2="","",IF(AND(D2=0),0,IF(AND(D2="velvet"),1,IF(AND(D2="church"),1,IF(AND(D2="face"),1,IF(AND(D2="daisy"),1,IF(AND(D2="red"),1,0))))))) | F2: =IF(A2="","",SUM(E2:E12)) | H2: Item | I2: Response | J2: Points (Hide this column when you are finished) | L2: Hits | N2: FP | P2: Simple Recognition Discrimination Index (Raw)
C3: =IF(A3="","",IF(AND(A3="face"),"face",IF(AND(A3="faces"),"face",IF(AND(A3="velvet"),"velvet",IF(AND(A3="velvets"),"velvet",IF(AND(A3="church"),"church",IF(AND(A3="churches"),"church",IF(AND(A3="daisy"),"daisy",IF(AND(A3="daisies"),"daisy",IF(AND(A3="red"),"red",IF(AND(A3="reds"),"red",A3))))))))))) | E3: =IF(A3="","",IF(AND(D3=0),0,IF(AND(D3="velvet"),1,IF(AND(D3="church"),1,IF(AND(D3="face"),1,IF(AND(D3="daisy"),1,IF(AND(D3="red"),1,0))))))) | F3: ^ Can be transferred directly to face sheet and table. | H3: VELVET | I3: SELECT | J3: =IF(I3="select","",IF(AND(I3="Yes"),1,0)) | K3: < Enter =IF(E11="select","",IF(AND(E11="Yes"),1,0)) | L3: =IF(I3="select","",SUM(J3,J6,J8,J9,J11)) | M3: < Enter =IF(E11="select","",SUM(F11,F14,F16,F17,F19)) | N3: =IF(I3="select","",SUM(J4,J5,J7,J10,J12)) | O3: < Enter =IF(E11="select","",SUM(F12,F13,F15,F18,F20)) | P3: =IF(I3="select","",L3-N3) | Q3: < Enter =IF(E11="select","",H11-J11) | R3: < Hits, FP and recognition indexes can be transferred directly to your face sheet and table.
C4: =IF(A4="","",IF(AND(A4="face"),"face",IF(AND(A4="faces"),"face",IF(AND(A4="velvet"),"velvet",IF(AND(A4="velvets"),"velvet",IF(AND(A4="church"),"church",IF(AND(A4="churches"),"church",IF(AND(A4="daisy"),"daisy",IF(AND(A4="daisies"),"daisy",IF(AND(A4="red"),"red",IF(AND(A4="reds"),"red",A4))))))))))) | E4: =IF(A4="","",IF(AND(D4=0),0,IF(AND(D4="velvet"),1,IF(AND(D4="church"),1,IF(AND(D4="face"),1,IF(AND(D4="daisy"),1,IF(AND(D4="red"),1,0))))))) | H4: HOTEL | I4: SELECT | J4: =IF(I4="select","",IF(AND(I4="Yes"),1,0)) | K4: < Enter =IF(E12="select","",IF(AND(E12="Yes"),1,0)) | Q4: Note that tests like RAVLT and CVLT calculate recognition in slightly more complicated ways than shown here; readers are directed to the relevant literature to learn more.
C5: =IF(A5="","",IF(AND(A5="face"),"face",IF(AND(A5="faces"),"face",IF(AND(A5="velvet"),"velvet",IF(AND(A5="velvets"),"velvet",IF(AND(A5="church"),"church",IF(AND(A5="churches"),"church",IF(AND(A5="daisy"),"daisy",IF(AND(A5="daisies"),"daisy",IF(AND(A5="red"),"red",IF(AND(A5="reds"),"red",A5))))))))))) | E5: =IF(A5="","",IF(AND(D5=0),0,IF(AND(D5="velvet"),1,IF(AND(D5="church"),1,IF(AND(D5="face"),1,IF(AND(D5="daisy"),1,IF(AND(D5="red"),1,0))))))) | H5: LEATHER | I5: SELECT | J5: =IF(I5="select","",IF(AND(I5="Yes"),1,0)) | K5: < Enter =IF(E13="select","",IF(AND(E13="Yes"),1,0)) | Q5: Regardless of the recognition paradigm used, most (if not all) of the list learning recognition tasks in modern neuropsychology are amenable to automatic scoring in Excel.
C6: =IF(A6="","",IF(AND(A6="face"),"face",IF(AND(A6="faces"),"face",IF(AND(A6="velvet"),"velvet",IF(AND(A6="velvets"),"velvet",IF(AND(A6="church"),"church",IF(AND(A6="churches"),"church",IF(AND(A6="daisy"),"daisy",IF(AND(A6="daisies"),"daisy",IF(AND(A6="red"),"red",IF(AND(A6="reds"),"red",A6))))))))))) | E6: =IF(A6="","",IF(AND(D6=0),0,IF(AND(D6="velvet"),1,IF(AND(D6="church"),1,IF(AND(D6="face"),1,IF(AND(D6="daisy"),1,IF(AND(D6="red"),1,0))))))) | H6: DAISY | I6: SELECT | J6: =IF(I6="select","",IF(AND(I6="Yes"),1,0)) | K6: < Enter =IF(E14="select","",IF(AND(E14="Yes"),1,0)) | Q6: Feel free to contact the developer at: lumje@ohsu.edu for additional questions about coding certain list recognition formats into Excel.
C7: =IF(A7="","",IF(AND(A7="face"),"face",IF(AND(A7="faces"),"face",IF(AND(A7="velvet"),"velvet",IF(AND(A7="velvets"),"velvet",IF(AND(A7="church"),"church",IF(AND(A7="churches"),"church",IF(AND(A7="daisy"),"daisy",IF(AND(A7="daisies"),"daisy",IF(AND(A7="red"),"red",IF(AND(A7="reds"),"red",A7))))))))))) | E7: =IF(A7="","",IF(AND(D7=0),0,IF(AND(D7="velvet"),1,IF(AND(D7="church"),1,IF(AND(D7="face"),1,IF(AND(D7="daisy"),1,IF(AND(D7="red"),1,0))))))) | H7: BLUE | I7: SELECT | J7: =IF(I7="select","",IF(AND(I7="Yes"),1,0)) | K7: < Enter =IF(E15="select","",IF(AND(E15="Yes"),1,0))
C8: =IF(A8="","",IF(AND(A8="face"),"face",IF(AND(A8="faces"),"face",IF(AND(A8="velvet"),"velvet",IF(AND(A8="velvets"),"velvet",IF(AND(A8="church"),"church",IF(AND(A8="churches"),"church",IF(AND(A8="daisy"),"daisy",IF(AND(A8="daisies"),"daisy",IF(AND(A8="red"),"red",IF(AND(A8="reds"),"red",A8))))))))))) | E8: =IF(A8="","",IF(AND(D8=0),0,IF(AND(D8="velvet"),1,IF(AND(D8="church"),1,IF(AND(D8="face"),1,IF(AND(D8="daisy"),1,IF(AND(D8="red"),1,0))))))) | H8: CHURCH | I8: SELECT | J8: =IF(I8="select","",IF(AND(I8="Yes"),1,0)) | K8: < Enter =IF(E16="select","",IF(AND(E16="Yes"),1,0))
C9: =IF(A9="","",IF(AND(A9="face"),"face",IF(AND(A9="faces"),"face",IF(AND(A9="velvet"),"velvet",IF(AND(A9="velvets"),"velvet",IF(AND(A9="church"),"church",IF(AND(A9="churches"),"church",IF(AND(A9="daisy"),"daisy",IF(AND(A9="daisies"),"daisy",IF(AND(A9="red"),"red",IF(AND(A9="reds"),"red",A9))))))))))) | E9: =IF(A9="","",IF(AND(D9=0),0,IF(AND(D9="velvet"),1,IF(AND(D9="church"),1,IF(AND(D9="face"),1,IF(AND(D9="daisy"),1,IF(AND(D9="red"),1,0))))))) | H9: FACE | I9: SELECT | J9: =IF(I9="select","",IF(AND(I9="Yes"),1,0)) | K9: < Enter =IF(E17="select","",IF(AND(E17="Yes"),1,0))
C10: =IF(A10="","",IF(AND(A10="face"),"face",IF(AND(A10="faces"),"face",IF(AND(A10="velvet"),"velvet",IF(AND(A10="velvets"),"velvet",IF(AND(A10="church"),"church",IF(AND(A10="churches"),"church",IF(AND(A10="daisy"),"daisy",IF(AND(A10="daisies"),"daisy",IF(AND(A10="red"),"red",IF(AND(A10="reds"),"red",A10))))))))))) | E10: =IF(A10="","",IF(AND(D10=0),0,IF(AND(D10="velvet"),1,IF(AND(D10="church"),1,IF(AND(D10="face"),1,IF(AND(D10="daisy"),1,IF(AND(D10="red"),1,0))))))) | H10: ARM | I10: SELECT | J10: =IF(I10="select","",IF(AND(I10="Yes"),1,0)) | K10: < Enter =IF(E18="select","",IF(AND(E18="Yes"),1,0))
C11: =IF(A11="","",IF(AND(A11="face"),"face",IF(AND(A11="faces"),"face",IF(AND(A11="velvet"),"velvet",IF(AND(A11="velvets"),"velvet",IF(AND(A11="church"),"church",IF(AND(A11="churches"),"church",IF(AND(A11="daisy"),"daisy",IF(AND(A11="daisies"),"daisy",IF(AND(A11="red"),"red",IF(AND(A11="reds"),"red",A11))))))))))) | E11: =IF(A11="","",IF(AND(D11=0),0,IF(AND(D11="velvet"),1,IF(AND(D11="church"),1,IF(AND(D11="face"),1,IF(AND(D11="daisy"),1,IF(AND(D11="red"),1,0))))))) | H11: RED | I11: SELECT | J11: =IF(I11="select","",IF(AND(I11="Yes"),1,0)) | K11: < Enter =IF(E19="select","",IF(AND(E19="Yes"),1,0))
C12: =IF(A12="","",IF(AND(A12="face"),"face",IF(AND(A12="faces"),"face",IF(AND(A12="velvet"),"velvet",IF(AND(A12="velvets"),"velvet",IF(AND(A12="church"),"church",IF(AND(A12="churches"),"church",IF(AND(A12="daisy"),"daisy",IF(AND(A12="daisies"),"daisy",IF(AND(A12="red"),"red",IF(AND(A12="reds"),"red",A12))))))))))) | E12: =IF(A12="","",IF(AND(D12=0),0,IF(AND(D12="velvet"),1,IF(AND(D12="church"),1,IF(AND(D12="face"),1,IF(AND(D12="daisy"),1,IF(AND(D12="red"),1,0))))))) | H12: PANSY | I12: SELECT | J12: =IF(I12="select","",IF(AND(I12="Yes"),1,0)) | K12: < Enter =IF(E20="select","",IF(AND(E20="Yes"),1,0))

Sheet Practice
A1: On this tab, you will practice some of the skills we have learned today in order to score the Animal Naming Test (Tombaugh, Kozak, and Rees, 1999). The norms are Publicly/Freely Available and copied below. HINT: You will need to use z-transformations, demographic coding, and rounding functions to make this work properly.
A3: Raw:
A4: z:
A5: %:
A6: T:
